BEGIN:VCALENDAR
VERSION:2.0
PRODID:-//Laura Escuela - ECPv5.3.0//NONSGML v1.0//EN
CALSCALE:GREGORIAN
METHOD:PUBLISH
X-WR-CALNAME:Laura Escuela
X-ORIGINAL-URL:https://lauraescuela.com
X-WR-CALDESC:Eventos para Laura Escuela
BEGIN:VTIMEZONE
TZID:UTC
BEGIN:STANDARD
TZOFFSETFROM:+0000
TZOFFSETTO:+0000
TZNAME:UTC
DTSTART:20210101T000000
END:STANDARD
END:VTIMEZONE
BEGIN:VEVENT
DTSTART;TZID=UTC:20210510T080000
DTEND;TZID=UTC:20210510T170000
DTSTAMP:20260421T121539
CREATED:20210504T121203Z
LAST-MODIFIED:20210504T121205Z
UID:3750-1620633600-1620666000@lauraescuela.com
SUMMARY:Curso SIGNOS Y LITERATURA
DESCRIPTION:Formación impartida junto a Silvia Rumeu a 25 alumnas de Canarias\, Madrid\, Santiago de Chile y Berlín.
URL:https://lauraescuela.com/agenda/curso-signos-y-literatura/
ATTACH;FMTTYPE=image/png:https://lauraescuela.com/wp-content/uploads/2021/05/Signos-y-literatura-cartel.png
END:VEVENT
END:VCALENDAR