BEGIN:VCALENDAR
VERSION:2.0
PRODID:-//Laura Escuela - ECPv5.3.0//NONSGML v1.0//EN
CALSCALE:GREGORIAN
METHOD:PUBLISH
X-WR-CALNAME:Laura Escuela
X-ORIGINAL-URL:https://lauraescuela.com
X-WR-CALDESC:Eventos para Laura Escuela
BEGIN:VTIMEZONE
TZID:UTC
BEGIN:STANDARD
TZOFFSETFROM:+0000
TZOFFSETTO:+0000
TZNAME:UTC
DTSTART:20200101T000000
END:STANDARD
END:VTIMEZONE
BEGIN:VEVENT
DTSTART;TZID=UTC:20200629T080000
DTEND;TZID=UTC:20200704T170000
DTSTAMP:20260419T195126
CREATED:20200601T080552Z
LAST-MODIFIED:20200601T080554Z
UID:3330-1593417600-1593882000@lauraescuela.com
SUMMARY:De viva voz. Curso online
DESCRIPTION:“El libro álbum en el aula de infantil y primaria”. \n\n\n\nTaller online a través de la web www.devivavoz.org. Toda la información allí en el apartado CURSOS pinchando en esta imagen:
URL:https://lauraescuela.com/agenda/de-viva-voz-curso-online/
ATTACH;FMTTYPE=image/png:https://lauraescuela.com/wp-content/uploads/2020/06/Rosa-Verde-Colorido-Black-Friday-Descuento-Instagram-Publicación-10.png
END:VEVENT
END:VCALENDAR