BEGIN:VCALENDAR
VERSION:2.0
PRODID:-//Laura Escuela - ECPv5.3.0//NONSGML v1.0//EN
CALSCALE:GREGORIAN
METHOD:PUBLISH
X-WR-CALNAME:Laura Escuela
X-ORIGINAL-URL:https://lauraescuela.com
X-WR-CALDESC:Eventos para Laura Escuela
BEGIN:VTIMEZONE
TZID:UTC
BEGIN:STANDARD
TZOFFSETFROM:+0000
TZOFFSETTO:+0000
TZNAME:UTC
DTSTART:20220101T000000
END:STANDARD
END:VTIMEZONE
BEGIN:VEVENT
DTSTART;TZID=UTC:20220425T080000
DTEND;TZID=UTC:20220425T170000
DTSTAMP:20260420T130657
CREATED:20220329T091308Z
LAST-MODIFIED:20220401T112925Z
UID:4217-1650873600-1650906000@lauraescuela.com
SUMMARY:¿Entras? BPE
DESCRIPTION:INSCRIPCIONES DISPONIBLES A TRAVÉS DE LINK CUANDO LA BIBLIOTECA LO PUBLIQUE EN SUS REDES
URL:https://lauraescuela.com/agenda/entras-bpe-2/
ATTACH;FMTTYPE=image/png:https://lauraescuela.com/wp-content/uploads/2022/03/¿ENTRAS-30-×-42-cm-2.png
END:VEVENT
END:VCALENDAR