BEGIN:VCALENDAR
VERSION:2.0
PRODID:-//Laura Escuela - ECPv5.3.0//NONSGML v1.0//EN
CALSCALE:GREGORIAN
METHOD:PUBLISH
X-WR-CALNAME:Laura Escuela
X-ORIGINAL-URL:https://lauraescuela.com
X-WR-CALDESC:Eventos para Laura Escuela
BEGIN:VTIMEZONE
TZID:UTC
BEGIN:STANDARD
TZOFFSETFROM:+0000
TZOFFSETTO:+0000
TZNAME:UTC
DTSTART:20250101T000000
END:STANDARD
END:VTIMEZONE
BEGIN:VEVENT
DTSTART;TZID=UTC:20251007T180000
DTEND;TZID=UTC:20251007T190000
DTSTAMP:20260420T110710
CREATED:20250911T152527Z
LAST-MODIFIED:20250911T152529Z
UID:5759-1759860000-1759863600@lauraescuela.com
SUMMARY:Entre árboles en Valle San Lorenzo\, Arona
DESCRIPTION:
URL:https://lauraescuela.com/agenda/entre-arboles-en-valle-san-lorenzo-arona/
END:VEVENT
END:VCALENDAR