BEGIN:VCALENDAR
VERSION:2.0
PRODID:-//Laura Escuela - ECPv5.3.0//NONSGML v1.0//EN
CALSCALE:GREGORIAN
METHOD:PUBLISH
X-WR-CALNAME:Laura Escuela
X-ORIGINAL-URL:https://lauraescuela.com
X-WR-CALDESC:Eventos para Laura Escuela
BEGIN:VTIMEZONE
TZID:UTC
BEGIN:STANDARD
TZOFFSETFROM:+0000
TZOFFSETTO:+0000
TZNAME:UTC
DTSTART:20230101T000000
END:STANDARD
END:VTIMEZONE
BEGIN:VEVENT
DTSTART;TZID=UTC:20230503T100000
DTEND;TZID=UTC:20230503T110000
DTSTAMP:20260423T104524
CREATED:20230427T144915Z
LAST-MODIFIED:20230427T144917Z
UID:5046-1683108000-1683111600@lauraescuela.com
SUMMARY:Feria del libro de SC
DESCRIPTION:Taller ¿ENTRAS A DESCUBRIR LOS LIBROS ÁLBUM? en el que en un primer momento contaré algunos libros álbum y hablaremos de sus características\, y en un segundo momento investigaremos en familia algunos libros haciéndonos preguntas y disfrutando de este género único.
URL:https://lauraescuela.com/agenda/feria-del-libro-de-sc-2/
ATTACH;FMTTYPE=image/jpeg:https://lauraescuela.com/wp-content/uploads/2023/04/WhatsApp-Image-2023-04-27-at-11.01.30-1.jpeg
END:VEVENT
END:VCALENDAR