BEGIN:VCALENDAR
VERSION:2.0
PRODID:-//Laura Escuela - ECPv5.3.0//NONSGML v1.0//EN
CALSCALE:GREGORIAN
METHOD:PUBLISH
X-WR-CALNAME:Laura Escuela
X-ORIGINAL-URL:https://lauraescuela.com
X-WR-CALDESC:Eventos para Laura Escuela
BEGIN:VTIMEZONE
TZID:UTC
BEGIN:STANDARD
TZOFFSETFROM:+0000
TZOFFSETTO:+0000
TZNAME:UTC
DTSTART:20260101T000000
END:STANDARD
END:VTIMEZONE
BEGIN:VEVENT
DTSTART;TZID=UTC:20260115T080000
DTEND;TZID=UTC:20260119T170000
DTSTAMP:20260423T122755
CREATED:20260109T160920Z
LAST-MODIFIED:20260109T160922Z
UID:5861-1768464000-1768842000@lauraescuela.com
SUMMARY:Feria mundial del libro de Nueva Delhi
DESCRIPTION:https://www.nbtindia.gov.in/ndwbf2026/ \n\n\n\n\nhttps://www.nbtindia.gov.in/ndwbf2026/
URL:https://lauraescuela.com/agenda/feria-mundial-del-libro-de-nueva-delhi/
END:VEVENT
END:VCALENDAR