BEGIN:VCALENDAR
VERSION:2.0
PRODID:-//Laura Escuela - ECPv5.3.0//NONSGML v1.0//EN
CALSCALE:GREGORIAN
METHOD:PUBLISH
X-WR-CALNAME:Laura Escuela
X-ORIGINAL-URL:https://lauraescuela.com
X-WR-CALDESC:Eventos para Laura Escuela
BEGIN:VTIMEZONE
TZID:UTC
BEGIN:STANDARD
TZOFFSETFROM:+0000
TZOFFSETTO:+0000
TZNAME:UTC
DTSTART:20220101T000000
END:STANDARD
END:VTIMEZONE
BEGIN:VEVENT
DTSTART;TZID=UTC:20220422T080000
DTEND;TZID=UTC:20220424T170000
DTSTAMP:20260420T191833
CREATED:20220329T085355Z
LAST-MODIFIED:20220401T112457Z
UID:4208-1650614400-1650819600@lauraescuela.com
SUMMARY:FESTIVAL "´´Erase una vez EL Hierro"
DESCRIPTION:MÁS INFORMACIÓ E INSCRIPCIONES EN eventoselhierro@gmail.com \n\n\n\n22 DE ABRIL \n\n\n\nSesiones de cuentos en AULA ENCLAVE en IES GAROÉ y Centro ocupacional EZERÓ  \n\n\n\n18:30 CUENTOS EN INGLÉS en Plaza de Merese \n\n\n\n23 DE ABRIL \n\n\n\n12h Bebecuentos “ALAMAR” en Centro Cultural Asabanos  \n\n\n\n18 Cuentos en inglés STORY TIME en Centro cultural Asabanos \n\n\n\n24 DE ABRIL \n\n\n\n10H BEBECUENTOS ALAMAR Plaza del Mentidero \n\n\n\n12h Sesión público familiar ÑAM Plaza del Mentidero.
URL:https://lauraescuela.com/agenda/festival-erase-una-vez-el-hierro/
END:VEVENT
END:VCALENDAR