BEGIN:VCALENDAR
VERSION:2.0
PRODID:-//Laura Escuela - ECPv5.3.0//NONSGML v1.0//EN
CALSCALE:GREGORIAN
METHOD:PUBLISH
X-WR-CALNAME:Laura Escuela
X-ORIGINAL-URL:https://lauraescuela.com
X-WR-CALDESC:Eventos para Laura Escuela
BEGIN:VTIMEZONE
TZID:UTC
BEGIN:STANDARD
TZOFFSETFROM:+0000
TZOFFSETTO:+0000
TZNAME:UTC
DTSTART:20230101T000000
END:STANDARD
END:VTIMEZONE
BEGIN:VEVENT
DTSTART;TZID=UTC:20231116T080000
DTEND;TZID=UTC:20231117T170000
DTSTAMP:20260423T105001
CREATED:20231031T135828Z
LAST-MODIFIED:20231031T135829Z
UID:5318-1700121600-1700240400@lauraescuela.com
SUMMARY:Festival La Oliva TCuenta\, Fuerteventura
DESCRIPTION:Sesiones de cuentos en español para alumnado con Diversidad Funcional\, sesión en Inglés para alumnado de La Oliva y taller sobre libros álbum para público familiar en el marco del Festival La Oliva TCuenta en Fuerteventura.  \n\n\n\nMás información próximamente.
URL:https://lauraescuela.com/agenda/festival-la-oliva-tcuenta-fuerteventura/
END:VEVENT
END:VCALENDAR