BEGIN:VCALENDAR
VERSION:2.0
PRODID:-//Laura Escuela - ECPv5.3.0//NONSGML v1.0//EN
CALSCALE:GREGORIAN
METHOD:PUBLISH
X-WR-CALNAME:Laura Escuela
X-ORIGINAL-URL:https://lauraescuela.com
X-WR-CALDESC:Eventos para Laura Escuela
BEGIN:VTIMEZONE
TZID:UTC
BEGIN:STANDARD
TZOFFSETFROM:+0000
TZOFFSETTO:+0000
TZNAME:UTC
DTSTART:20220101T000000
END:STANDARD
END:VTIMEZONE
BEGIN:VEVENT
DTSTART;TZID=UTC:20220428T080000
DTEND;TZID=UTC:20220429T170000
DTSTAMP:20260420T155201
CREATED:20220329T091113Z
LAST-MODIFIED:20220401T112904Z
UID:4213-1651132800-1651251600@lauraescuela.com
SUMMARY:Festival LIBRARTE\, Haría\, Lanzarote
DESCRIPTION:https://culturedharia.com/librarte/
URL:https://lauraescuela.com/agenda/festival-librarte-haria-lanzarote/
ATTACH;FMTTYPE=image/png:https://lauraescuela.com/wp-content/uploads/2022/03/infantil.png
END:VEVENT
END:VCALENDAR