BEGIN:VCALENDAR
VERSION:2.0
PRODID:-//Laura Escuela - ECPv5.3.0//NONSGML v1.0//EN
CALSCALE:GREGORIAN
METHOD:PUBLISH
X-WR-CALNAME:Laura Escuela
X-ORIGINAL-URL:https://lauraescuela.com
X-WR-CALDESC:Eventos para Laura Escuela
BEGIN:VTIMEZONE
TZID:UTC
BEGIN:STANDARD
TZOFFSETFROM:+0000
TZOFFSETTO:+0000
TZNAME:UTC
DTSTART:20200101T000000
END:STANDARD
END:VTIMEZONE
BEGIN:VEVENT
DTSTART;TZID=UTC:20201009T080000
DTEND;TZID=UTC:20201011T170000
DTSTAMP:20260420T123625
CREATED:20200920T110614Z
LAST-MODIFIED:20200920T110616Z
UID:3400-1602230400-1602435600@lauraescuela.com
SUMMARY:Festival Un Andévalo de cuentos (Huelva)
DESCRIPTION:Participación en el III Ciclo de Narración Oral “Un Andévalo de cuentos” en la Sierra de Huelva.  \n\n\n\nCuentos basados en historias y recuerdos de las personas mayores del pueblo de El Granado.
URL:https://lauraescuela.com/agenda/festival-un-andevalo-de-cuentos-huelva/
ATTACH;FMTTYPE=image/jpeg:https://lauraescuela.com/wp-content/uploads/2020/09/cartel-andévalo.jpg
END:VEVENT
END:VCALENDAR