BEGIN:VCALENDAR
VERSION:2.0
PRODID:-//Laura Escuela - ECPv5.3.0//NONSGML v1.0//EN
CALSCALE:GREGORIAN
METHOD:PUBLISH
X-WR-CALNAME:Laura Escuela
X-ORIGINAL-URL:https://lauraescuela.com
X-WR-CALDESC:Eventos para Laura Escuela
BEGIN:VTIMEZONE
TZID:UTC
BEGIN:STANDARD
TZOFFSETFROM:+0000
TZOFFSETTO:+0000
TZNAME:UTC
DTSTART:20250101T000000
END:STANDARD
END:VTIMEZONE
BEGIN:VEVENT
DTSTART;TZID=UTC:20250129T200000
DTEND;TZID=UTC:20250129T210000
DTSTAMP:20260422T051538
CREATED:20250107T210133Z
LAST-MODIFIED:20250107T210134Z
UID:5670-1738180800-1738184400@lauraescuela.com
SUMMARY:Formación a profesorado CEP Gran Canaria Noroeste
DESCRIPTION:Formación sobre CONTAR EN EL AULA DE INGLÉS a profesorado de primaria y secundaria del CEP GRAN CANARIA NOROESTE.
URL:https://lauraescuela.com/agenda/formacion-a-profesorado-cep-gran-canaria-noroeste/
END:VEVENT
END:VCALENDAR