BEGIN:VCALENDAR
VERSION:2.0
PRODID:-//Laura Escuela - ECPv5.3.0//NONSGML v1.0//EN
CALSCALE:GREGORIAN
METHOD:PUBLISH
X-WR-CALNAME:Laura Escuela
X-ORIGINAL-URL:https://lauraescuela.com
X-WR-CALDESC:Eventos para Laura Escuela
BEGIN:VTIMEZONE
TZID:UTC
BEGIN:STANDARD
TZOFFSETFROM:+0000
TZOFFSETTO:+0000
TZNAME:UTC
DTSTART:20250101T000000
END:STANDARD
END:VTIMEZONE
BEGIN:VEVENT
DTSTART;TZID=UTC:20251105T160000
DTEND;TZID=UTC:20251105T180000
DTSTAMP:20260423T153121
CREATED:20251031T131134Z
LAST-MODIFIED:20251031T131136Z
UID:5824-1762358400-1762365600@lauraescuela.com
SUMMARY:Formación a profesorado Educación Infantil
DESCRIPTION:PRELECTURA Y VINCULACIÓN EMOCIONAL CON LOS LIBROS Y LAS HISTORIAS EN EL AULA DE INFANTIL desde PIALTE\, para profesorado de Educación Infantil (plazas ya completas)
URL:https://lauraescuela.com/agenda/formacion-a-profesorado-educacion-infantil/
END:VEVENT
END:VCALENDAR