BEGIN:VCALENDAR
VERSION:2.0
PRODID:-//Laura Escuela - ECPv5.3.0//NONSGML v1.0//EN
CALSCALE:GREGORIAN
METHOD:PUBLISH
X-WR-CALNAME:Laura Escuela
X-ORIGINAL-URL:https://lauraescuela.com
X-WR-CALDESC:Eventos para Laura Escuela
BEGIN:VTIMEZONE
TZID:UTC
BEGIN:STANDARD
TZOFFSETFROM:+0000
TZOFFSETTO:+0000
TZNAME:UTC
DTSTART:20210101T000000
END:STANDARD
END:VTIMEZONE
BEGIN:VEVENT
DTSTART;TZID=UTC:20210302T153000
DTEND;TZID=UTC:20210304T153000
DTSTAMP:20260424T090339
CREATED:20210221T190437Z
LAST-MODIFIED:20210221T190438Z
UID:3648-1614699000-1614871800@lauraescuela.com
SUMMARY:Formación CEP La Laguna
DESCRIPTION:
URL:https://lauraescuela.com/agenda/formacion-cep-la-laguna/
ATTACH;FMTTYPE=image/jpeg:https://lauraescuela.com/wp-content/uploads/2021/02/WhatsApp-Image-2021-01-29-at-18.39.32.jpeg
END:VEVENT
END:VCALENDAR