BEGIN:VCALENDAR
VERSION:2.0
PRODID:-//Laura Escuela - ECPv5.3.0//NONSGML v1.0//EN
CALSCALE:GREGORIAN
METHOD:PUBLISH
X-WR-CALNAME:Laura Escuela
X-ORIGINAL-URL:https://lauraescuela.com
X-WR-CALDESC:Eventos para Laura Escuela
BEGIN:VTIMEZONE
TZID:UTC
BEGIN:STANDARD
TZOFFSETFROM:+0000
TZOFFSETTO:+0000
TZNAME:UTC
DTSTART:20250101T000000
END:STANDARD
END:VTIMEZONE
BEGIN:VEVENT
DTSTART;TZID=UTC:20250219T080000
DTEND;TZID=UTC:20250219T170000
DTSTAMP:20260424T062715
CREATED:20250202T204438Z
LAST-MODIFIED:20250202T204439Z
UID:5683-1739952000-1739984400@lauraescuela.com
SUMMARY:Formación Contar con libros y música en el aula de inglés. Gran Canaria
DESCRIPTION:Formación dirigida a profesorado del CEP Noroeste Gran Canaria.
URL:https://lauraescuela.com/agenda/formacion-contar-con-libros-y-musica-en-el-aula-de-ingles-gran-canaria/
END:VEVENT
END:VCALENDAR