BEGIN:VCALENDAR
VERSION:2.0
PRODID:-//Laura Escuela - ECPv5.3.0//NONSGML v1.0//EN
CALSCALE:GREGORIAN
METHOD:PUBLISH
X-WR-CALNAME:Laura Escuela
X-ORIGINAL-URL:https://lauraescuela.com
X-WR-CALDESC:Eventos para Laura Escuela
BEGIN:VTIMEZONE
TZID:UTC
BEGIN:STANDARD
TZOFFSETFROM:+0000
TZOFFSETTO:+0000
TZNAME:UTC
DTSTART:20230101T000000
END:STANDARD
END:VTIMEZONE
BEGIN:VEVENT
DTSTART;TZID=UTC:20230308T160000
DTEND;TZID=UTC:20230308T180000
DTSTAMP:20260423T104820
CREATED:20230220T100433Z
LAST-MODIFIED:20230220T100434Z
UID:4923-1678291200-1678298400@lauraescuela.com
SUMMARY:Formación profesorado Historias con eco
DESCRIPTION:https://www.gobiernodecanarias.org/educacion/web/programas-redes-educativas/redes-educativas/red-canarias-innovas/educa-ambiental-sostenibilidad/convocatorias/historias_con_eco/
URL:https://lauraescuela.com/agenda/formacion-profesorado-historias-con-eco-2/
END:VEVENT
END:VCALENDAR