BEGIN:VCALENDAR
VERSION:2.0
PRODID:-//Laura Escuela - ECPv5.3.0//NONSGML v1.0//EN
CALSCALE:GREGORIAN
METHOD:PUBLISH
X-WR-CALNAME:Laura Escuela
X-ORIGINAL-URL:https://lauraescuela.com
X-WR-CALDESC:Eventos para Laura Escuela
BEGIN:VTIMEZONE
TZID:UTC
BEGIN:STANDARD
TZOFFSETFROM:+0000
TZOFFSETTO:+0000
TZNAME:UTC
DTSTART:20220101T000000
END:STANDARD
END:VTIMEZONE
BEGIN:VEVENT
DTSTART;TZID=UTC:20220323T160000
DTEND;TZID=UTC:20220323T190000
DTSTAMP:20260421T083745
CREATED:20220225T144337Z
LAST-MODIFIED:20220228T145417Z
UID:4163-1648051200-1648062000@lauraescuela.com
SUMMARY:Formación profesorado STORYTELLING
DESCRIPTION:CURSO: LEARNING THROUGH DRAMA AND STORYTELLING
URL:https://lauraescuela.com/agenda/formacion-profesorado-storytelling/
ATTACH;FMTTYPE=image/jpeg:https://lauraescuela.com/wp-content/uploads/2022/02/curso-storytelling-2022-pdf-768x1024-1.jpg
END:VEVENT
END:VCALENDAR