BEGIN:VCALENDAR
VERSION:2.0
PRODID:-//Laura Escuela - ECPv5.3.0//NONSGML v1.0//EN
CALSCALE:GREGORIAN
METHOD:PUBLISH
X-WR-CALNAME:Laura Escuela
X-ORIGINAL-URL:https://lauraescuela.com
X-WR-CALDESC:Eventos para Laura Escuela
BEGIN:VTIMEZONE
TZID:UTC
BEGIN:STANDARD
TZOFFSETFROM:+0000
TZOFFSETTO:+0000
TZNAME:UTC
DTSTART:20200101T000000
END:STANDARD
END:VTIMEZONE
BEGIN:VEVENT
DTSTART;TZID=UTC:20200125T120000
DTEND;TZID=UTC:20200125T130000
DTSTAMP:20260419T201411
CREATED:20191222T114243Z
LAST-MODIFIED:20191222T114244Z
UID:3038-1579953600-1579957200@lauraescuela.com
SUMMARY:GRAN CANARIA. Bebecuentos en Arucas
DESCRIPTION:Sesión de Bebecuentos en Biblioteca Municipal de Arucas. Más información pronto.
URL:https://lauraescuela.com/agenda/gran-canaria-bebecuentos-en-arucas/
END:VEVENT
END:VCALENDAR