BEGIN:VCALENDAR
VERSION:2.0
PRODID:-//Laura Escuela - ECPv5.3.0//NONSGML v1.0//EN
CALSCALE:GREGORIAN
METHOD:PUBLISH
X-WR-CALNAME:Laura Escuela
X-ORIGINAL-URL:https://lauraescuela.com
X-WR-CALDESC:Eventos para Laura Escuela
BEGIN:VTIMEZONE
TZID:UTC
BEGIN:STANDARD
TZOFFSETFROM:+0000
TZOFFSETTO:+0000
TZNAME:UTC
DTSTART:20200101T000000
END:STANDARD
END:VTIMEZONE
BEGIN:VEVENT
DTSTART;TZID=UTC:20201111T080000
DTEND;TZID=UTC:20201114T170000
DTSTAMP:20260419T200944
CREATED:20201102T111557Z
LAST-MODIFIED:20201108T105300Z
UID:3471-1605081600-1605373200@lauraescuela.com
SUMMARY:GRAN CANARIA\, Circuito de Narración Oral
DESCRIPTION:Sesiones de Narración Oral para público familiar y escolar en los municipios de Valsequillo\, Arucas\, Telde\, Maspalomas y Las Palmas.
URL:https://lauraescuela.com/agenda/gran-canaria-circuito-de-narracion-oral/
END:VEVENT
END:VCALENDAR