BEGIN:VCALENDAR
VERSION:2.0
PRODID:-//Laura Escuela - ECPv5.3.0//NONSGML v1.0//EN
CALSCALE:GREGORIAN
METHOD:PUBLISH
X-WR-CALNAME:Laura Escuela
X-ORIGINAL-URL:https://lauraescuela.com
X-WR-CALDESC:Eventos para Laura Escuela
BEGIN:VTIMEZONE
TZID:UTC
BEGIN:STANDARD
TZOFFSETFROM:+0000
TZOFFSETTO:+0000
TZNAME:UTC
DTSTART:20200101T000000
END:STANDARD
END:VTIMEZONE
BEGIN:VEVENT
DTSTART;TZID=UTC:20200124T170000
DTEND;TZID=UTC:20200124T180000
DTSTAMP:20260419T212625
CREATED:20191222T114130Z
LAST-MODIFIED:20191222T114132Z
UID:3036-1579885200-1579888800@lauraescuela.com
SUMMARY:GRAN CANARIA. La hora del Cuento
DESCRIPTION:LA HORA DEL CUENTO en la BIBLIOTECA INSULAR DE LAS PALMAS para mayores de 3 años.
URL:https://lauraescuela.com/agenda/gran-canaria-la-hora-del-cuento/
LOCATION:Biblioteca Insular de Las Palmas de Gran Canaria\, Calle Remedios\, 7\, Las Palmas de Gran Canaria\, 35002\, España
END:VEVENT
END:VCALENDAR