BEGIN:VCALENDAR
VERSION:2.0
PRODID:-//Laura Escuela - ECPv5.3.0//NONSGML v1.0//EN
CALSCALE:GREGORIAN
METHOD:PUBLISH
X-WR-CALNAME:Laura Escuela
X-ORIGINAL-URL:https://lauraescuela.com
X-WR-CALDESC:Eventos para Laura Escuela
BEGIN:VTIMEZONE
TZID:UTC
BEGIN:STANDARD
TZOFFSETFROM:+0000
TZOFFSETTO:+0000
TZNAME:UTC
DTSTART:20190101T000000
END:STANDARD
END:VTIMEZONE
BEGIN:VEVENT
DTSTART;TZID=UTC:20191022T100000
DTEND;TZID=UTC:20191022T230000
DTSTAMP:20260421T113020
CREATED:20190917T122053Z
LAST-MODIFIED:20190917T122054Z
UID:2725-1571738400-1571785200@lauraescuela.com
SUMMARY:GRAN CANARIA. Maspalomas
DESCRIPTION:Sesión de cuentos para público infantil
URL:https://lauraescuela.com/agenda/gran-canaria-maspalomas/
END:VEVENT
END:VCALENDAR