BEGIN:VCALENDAR
VERSION:2.0
PRODID:-//Laura Escuela - ECPv5.3.0//NONSGML v1.0//EN
CALSCALE:GREGORIAN
METHOD:PUBLISH
X-WR-CALNAME:Laura Escuela
X-ORIGINAL-URL:https://lauraescuela.com
X-WR-CALDESC:Eventos para Laura Escuela
BEGIN:VTIMEZONE
TZID:UTC
BEGIN:STANDARD
TZOFFSETFROM:+0000
TZOFFSETTO:+0000
TZNAME:UTC
DTSTART:20190101T000000
END:STANDARD
END:VTIMEZONE
BEGIN:VEVENT
DTSTART;TZID=UTC:20191023T173000
DTEND;TZID=UTC:20191023T183000
DTSTAMP:20260421T083455
CREATED:20190917T123826Z
LAST-MODIFIED:20190917T123857Z
UID:2731-1571851800-1571855400@lauraescuela.com
SUMMARY:GRAN CANARIA. Valsequillo.
DESCRIPTION:Sesión de cuentos para público familiar
URL:https://lauraescuela.com/agenda/gran-canaria-valsequillo/
END:VEVENT
END:VCALENDAR