BEGIN:VCALENDAR
VERSION:2.0
PRODID:-//Laura Escuela - ECPv5.3.0//NONSGML v1.0//EN
CALSCALE:GREGORIAN
METHOD:PUBLISH
X-WR-CALNAME:Laura Escuela
X-ORIGINAL-URL:https://lauraescuela.com
X-WR-CALDESC:Eventos para Laura Escuela
BEGIN:VTIMEZONE
TZID:UTC
BEGIN:STANDARD
TZOFFSETFROM:+0000
TZOFFSETTO:+0000
TZNAME:UTC
DTSTART:20230101T000000
END:STANDARD
END:VTIMEZONE
BEGIN:VEVENT
DTSTART;TZID=UTC:20231006T080000
DTEND;TZID=UTC:20231006T170000
DTSTAMP:20260423T105002
CREATED:20230925T101301Z
LAST-MODIFIED:20230925T101302Z
UID:5258-1696579200-1696611600@lauraescuela.com
SUMMARY:"Había una vez... ocho islas de cuento" en Lanzarote
DESCRIPTION:
URL:https://lauraescuela.com/agenda/habia-una-vez-ocho-islas-de-cuento-en-lanzarote/
END:VEVENT
END:VCALENDAR