BEGIN:VCALENDAR
VERSION:2.0
PRODID:-//Laura Escuela - ECPv5.3.0//NONSGML v1.0//EN
CALSCALE:GREGORIAN
METHOD:PUBLISH
X-WR-CALNAME:Laura Escuela
X-ORIGINAL-URL:https://lauraescuela.com
X-WR-CALDESC:Eventos para Laura Escuela
BEGIN:VTIMEZONE
TZID:UTC
BEGIN:STANDARD
TZOFFSETFROM:+0000
TZOFFSETTO:+0000
TZNAME:UTC
DTSTART:20230101T000000
END:STANDARD
END:VTIMEZONE
BEGIN:VEVENT
DTSTART;TZID=UTC:20231117T053000
DTEND;TZID=UTC:20231117T183000
DTSTAMP:20260421T132801
CREATED:20231031T135944Z
LAST-MODIFIED:20231031T135945Z
UID:5320-1700199000-1700245800@lauraescuela.com
SUMMARY:"Había una vez... ocho islas" en Fuerteventura
DESCRIPTION:
URL:https://lauraescuela.com/agenda/habia-una-vez-ocho-islas-en-fuerteventura/
END:VEVENT
END:VCALENDAR