BEGIN:VCALENDAR
VERSION:2.0
PRODID:-//Laura Escuela - ECPv5.3.0//NONSGML v1.0//EN
CALSCALE:GREGORIAN
METHOD:PUBLISH
X-WR-CALNAME:Laura Escuela
X-ORIGINAL-URL:https://lauraescuela.com
X-WR-CALDESC:Eventos para Laura Escuela
BEGIN:VTIMEZONE
TZID:UTC
BEGIN:STANDARD
TZOFFSETFROM:+0000
TZOFFSETTO:+0000
TZNAME:UTC
DTSTART:20220101T000000
END:STANDARD
END:VTIMEZONE
BEGIN:VEVENT
DTSTART;TZID=UTC:20220427T080000
DTEND;TZID=UTC:20220427T170000
DTSTAMP:20260420T192839
CREATED:20220329T090541Z
LAST-MODIFIED:20220329T090542Z
UID:4210-1651046400-1651078800@lauraescuela.com
SUMMARY:II Congreso virtual de Jóvenes lectores
DESCRIPTION:Participación como coautora del libro “YAIZA EN EL RUBICÓN” en el II Congreso virtual de Jóvenes lectores en los que niños y niñas de diferentes centros escolares han leído y trabajado sobre el libro y muestran a los autores y autoras el resultado\, a la par que les entrevistan.
URL:https://lauraescuela.com/agenda/ii-congreso-virtual-de-jovenes-lectores/
ATTACH;FMTTYPE=image/jpeg:https://lauraescuela.com/wp-content/uploads/2022/03/cartel_congreso_jovenes_lectores.jpg
END:VEVENT
END:VCALENDAR