BEGIN:VCALENDAR
VERSION:2.0
PRODID:-//Laura Escuela - ECPv5.3.0//NONSGML v1.0//EN
CALSCALE:GREGORIAN
METHOD:PUBLISH
X-WR-CALNAME:Laura Escuela
X-ORIGINAL-URL:https://lauraescuela.com
X-WR-CALDESC:Eventos para Laura Escuela
BEGIN:VTIMEZONE
TZID:UTC
BEGIN:STANDARD
TZOFFSETFROM:+0000
TZOFFSETTO:+0000
TZNAME:UTC
DTSTART:20190101T000000
END:STANDARD
END:VTIMEZONE
BEGIN:VEVENT
DTSTART;TZID=UTC:20191124T123000
DTEND;TZID=UTC:20191124T133000
DTSTAMP:20260421T100616
CREATED:20191028T190130Z
LAST-MODIFIED:20191028T190132Z
UID:2901-1574598600-1574602200@lauraescuela.com
SUMMARY:INVIERNO\, Teatro Guiniguada
DESCRIPTION:Espectáculo para niños y niñas de 1 a 4 años “Invierno”\, que forma parte del ciclo “LAS ESTACIONES” en el Teatro Guiniguada de Las Palmas\, junto a Isabel Bolívar. Compañía Contando Ando.  \n\n\n\nVenta de Entradas aquí:  https://entrees.es/evento/LAS-ESTACIONES-INVIERNO-entradas
URL:https://lauraescuela.com/agenda/invierno-teatro-guiniguada/
LOCATION:Teatro Guiniguada\, Calle Mesa de León\, 2\,\, Las Palmas de Gran Canaria\, 35001\, España
END:VEVENT
END:VCALENDAR