BEGIN:VCALENDAR
VERSION:2.0
PRODID:-//Laura Escuela - ECPv5.3.0//NONSGML v1.0//EN
CALSCALE:GREGORIAN
METHOD:PUBLISH
X-WR-CALNAME:Laura Escuela
X-ORIGINAL-URL:https://lauraescuela.com
X-WR-CALDESC:Eventos para Laura Escuela
BEGIN:VTIMEZONE
TZID:UTC
BEGIN:STANDARD
TZOFFSETFROM:+0000
TZOFFSETTO:+0000
TZNAME:UTC
DTSTART:20190101T000000
END:STANDARD
END:VTIMEZONE
BEGIN:VEVENT
DTSTART;TZID=UTC:20191018T200000
DTEND;TZID=UTC:20191018T210000
DTSTAMP:20260421T114817
CREATED:20190917T121709Z
LAST-MODIFIED:20190917T121711Z
UID:2718-1571428800-1571432400@lauraescuela.com
SUMMARY:LA PALMA. Festival Pasoral. Sesión para personas adultas.
DESCRIPTION:I Festival de Narración Oral Escénica el PASORAL. El Paso\, La Palma
URL:https://lauraescuela.com/agenda/la-palma-festival-pasoral-sesion-para-personas-adultas/
ATTACH;FMTTYPE=image/jpeg:https://lauraescuela.com/wp-content/uploads/2019/09/CARTEL-PASORAL.jpg
END:VEVENT
END:VCALENDAR