BEGIN:VCALENDAR
VERSION:2.0
PRODID:-//Laura Escuela - ECPv5.3.0//NONSGML v1.0//EN
CALSCALE:GREGORIAN
METHOD:PUBLISH
X-WR-CALNAME:Laura Escuela
X-ORIGINAL-URL:https://lauraescuela.com
X-WR-CALDESC:Eventos para Laura Escuela
BEGIN:VTIMEZONE
TZID:UTC
BEGIN:STANDARD
TZOFFSETFROM:+0000
TZOFFSETTO:+0000
TZNAME:UTC
DTSTART:20200101T000000
END:STANDARD
END:VTIMEZONE
BEGIN:VEVENT
DTSTART;TZID=UTC:20200306T200000
DTEND;TZID=UTC:20200306T210000
DTSTAMP:20260421T125713
CREATED:20200223T192506Z
LAST-MODIFIED:20200223T192508Z
UID:3209-1583524800-1583528400@lauraescuela.com
SUMMARY:LA PALMA. La solera cuenta
DESCRIPTION:Sesión de cuentos para personas adultas en La Solera cuenta\, Mazo\, La Palma. \n\n\n\nOrganizado por Troysteatro.
URL:https://lauraescuela.com/agenda/la-palma-la-solera-cuenta/
ATTACH;FMTTYPE=image/jpeg:https://lauraescuela.com/wp-content/uploads/2020/02/WhatsApp-Image-2020-02-16-at-12.47.18.jpeg
END:VEVENT
END:VCALENDAR