BEGIN:VCALENDAR
VERSION:2.0
PRODID:-//Laura Escuela - ECPv5.3.0//NONSGML v1.0//EN
CALSCALE:GREGORIAN
METHOD:PUBLISH
X-WR-CALNAME:Laura Escuela
X-ORIGINAL-URL:https://lauraescuela.com
X-WR-CALDESC:Eventos para Laura Escuela
BEGIN:VTIMEZONE
TZID:UTC
BEGIN:STANDARD
TZOFFSETFROM:+0000
TZOFFSETTO:+0000
TZNAME:UTC
DTSTART:20210101T000000
END:STANDARD
END:VTIMEZONE
BEGIN:VEVENT
DTSTART;TZID=UTC:20210309T163000
DTEND;TZID=UTC:20210309T163000
DTSTAMP:20260420T155104
CREATED:20210228T183055Z
LAST-MODIFIED:20210228T183056Z
UID:3675-1615307400-1615307400@lauraescuela.com
SUMMARY:Merienda de palabras
DESCRIPTION:¡Les presentamos MERIENDA DE PALABRAS! \n\n\n\nUn encuentro mensual para compartir teoría y práctica sobre literatura infantil y oralidad con nuestros bebés. \n\n\n\nEn cada encuentro hablaremos de libros\, tradición oral\, música…  contaremos\, cantaremos y charlaremos sobre nuestra experiencia con otras madres y padres. \n\n\n\nInscríbete y EL DÍA ANTES te llegará un link a ZOOM para que puedas acceder. \n\n\n\nInscripciones BEBÉS 0-18 meses a 16:30\, https://bit.ly/3pY700x \n\n\n\nInscripciones BEBÉS 19-36 meses a 17:30\, https://bit.ly/3sfHzJg
URL:https://lauraescuela.com/agenda/merienda-de-palabras/
ATTACH;FMTTYPE=image/png:https://lauraescuela.com/wp-content/uploads/2021/02/MERIENDA-DE-palabras.png
END:VEVENT
END:VCALENDAR