BEGIN:VCALENDAR
VERSION:2.0
PRODID:-//Laura Escuela - ECPv5.3.0//NONSGML v1.0//EN
CALSCALE:GREGORIAN
METHOD:PUBLISH
X-WR-CALNAME:Laura Escuela
X-ORIGINAL-URL:https://lauraescuela.com
X-WR-CALDESC:Eventos para Laura Escuela
BEGIN:VTIMEZONE
TZID:UTC
BEGIN:STANDARD
TZOFFSETFROM:+0000
TZOFFSETTO:+0000
TZNAME:UTC
DTSTART:20220101T000000
END:STANDARD
END:VTIMEZONE
BEGIN:VEVENT
DTSTART;TZID=UTC:20220308T080000
DTEND;TZID=UTC:20220308T170000
DTSTAMP:20260421T131340
CREATED:20220225T142912Z
LAST-MODIFIED:20220228T145123Z
UID:4151-1646726400-1646758800@lauraescuela.com
SUMMARY:Mujeres de cuento. Cuentos para público adulto junto a Mon Peraza
DESCRIPTION:
URL:https://lauraescuela.com/agenda/mujeres-de-cuento-cuentos-para-publico-adulto-junto-a-mon-peraza/
ATTACH;FMTTYPE=image/jpeg:https://lauraescuela.com/wp-content/uploads/2022/02/MON_LAURA_Instagram_1080x1080_mujeres_cuento.jpg
END:VEVENT
END:VCALENDAR