BEGIN:VCALENDAR
VERSION:2.0
PRODID:-//Laura Escuela - ECPv5.3.0//NONSGML v1.0//EN
CALSCALE:GREGORIAN
METHOD:PUBLISH
X-WR-CALNAME:Laura Escuela
X-ORIGINAL-URL:https://lauraescuela.com
X-WR-CALDESC:Eventos para Laura Escuela
BEGIN:VTIMEZONE
TZID:UTC
BEGIN:STANDARD
TZOFFSETFROM:+0000
TZOFFSETTO:+0000
TZNAME:UTC
DTSTART:20250101T000000
END:STANDARD
END:VTIMEZONE
BEGIN:VEVENT
DTSTART;TZID=UTC:20250815T080000
DTEND;TZID=UTC:20250815T170000
DTSTAMP:20260423T165657
CREATED:20250728T171850Z
LAST-MODIFIED:20250728T171852Z
UID:5738-1755244800-1755277200@lauraescuela.com
SUMMARY:OLEAJE peques
DESCRIPTION:
URL:https://lauraescuela.com/agenda/oleaje-peques-2/
END:VEVENT
END:VCALENDAR