BEGIN:VCALENDAR
VERSION:2.0
PRODID:-//Laura Escuela - ECPv5.3.0//NONSGML v1.0//EN
CALSCALE:GREGORIAN
METHOD:PUBLISH
X-WR-CALNAME:Laura Escuela
X-ORIGINAL-URL:https://lauraescuela.com
X-WR-CALDESC:Eventos para Laura Escuela
BEGIN:VTIMEZONE
TZID:UTC
BEGIN:STANDARD
TZOFFSETFROM:+0000
TZOFFSETTO:+0000
TZNAME:UTC
DTSTART:20190101T000000
END:STANDARD
END:VTIMEZONE
BEGIN:VEVENT
DTSTART;TZID=UTC:20191127T193000
DTEND;TZID=UTC:20191127T203000
DTSTAMP:20260424T090308
CREATED:20191028T190554Z
LAST-MODIFIED:20191030T132451Z
UID:2909-1574883000-1574886600@lauraescuela.com
SUMMARY:Palabras Desnudas. Ofra
DESCRIPTION:Sesión para público adulto en la Biblioteca Municipal de Ofra dentro del ciclo PALABRAS DESNUDAS.
URL:https://lauraescuela.com/agenda/palabras-desnudas-ofra/
LOCATION:Biblioteca Municipal Federico García Lorca\, Av. Principes de España\, 12\, Santa Cruz de Tenerife\, 38010\, Estados Unidos
ATTACH;FMTTYPE=image/jpeg:https://lauraescuela.com/wp-content/uploads/2019/10/Criaturas-Ofra-1.jpg
END:VEVENT
END:VCALENDAR