BEGIN:VCALENDAR
VERSION:2.0
PRODID:-//Laura Escuela - ECPv5.3.0//NONSGML v1.0//EN
CALSCALE:GREGORIAN
METHOD:PUBLISH
X-WR-CALNAME:Laura Escuela
X-ORIGINAL-URL:https://lauraescuela.com
X-WR-CALDESC:Eventos para Laura Escuela
BEGIN:VTIMEZONE
TZID:UTC
BEGIN:STANDARD
TZOFFSETFROM:+0000
TZOFFSETTO:+0000
TZNAME:UTC
DTSTART:20220101T000000
END:STANDARD
END:VTIMEZONE
BEGIN:VEVENT
DTSTART;TZID=UTC:20221116T170000
DTEND;TZID=UTC:20221116T180000
DTSTAMP:20260423T090822
CREATED:20221028T124518Z
LAST-MODIFIED:20221102T134836Z
UID:4734-1668618000-1668621600@lauraescuela.com
SUMMARY:Presentación Arrullos de felpa en LoVerde
DESCRIPTION:
URL:https://lauraescuela.com/agenda/presentacion-arrullos-de-felpa-en-loverde/
ATTACH;FMTTYPE=image/jpeg:https://lauraescuela.com/wp-content/uploads/2022/11/WhatsApp-Image-2022-11-02-at-00.31.56.jpeg
END:VEVENT
END:VCALENDAR