BEGIN:VCALENDAR
VERSION:2.0
PRODID:-//Laura Escuela - ECPv5.3.0//NONSGML v1.0//EN
CALSCALE:GREGORIAN
METHOD:PUBLISH
X-WR-CALNAME:Laura Escuela
X-ORIGINAL-URL:https://lauraescuela.com
X-WR-CALDESC:Eventos para Laura Escuela
BEGIN:VTIMEZONE
TZID:UTC
BEGIN:STANDARD
TZOFFSETFROM:+0000
TZOFFSETTO:+0000
TZNAME:UTC
DTSTART:20200101T000000
END:STANDARD
END:VTIMEZONE
BEGIN:VEVENT
DTSTART;TZID=UTC:20201001T180000
DTEND;TZID=UTC:20201001T190000
DTSTAMP:20260423T104911
CREATED:20200920T105539Z
LAST-MODIFIED:20200920T105540Z
UID:3394-1601575200-1601578800@lauraescuela.com
SUMMARY:Público familiar (On) Santa Cruz
DESCRIPTION:Sesión de cuentos online para público familiar (mayores de 3) a través del facebook de Laura Escuela\, Narradora Oral y de La Cultura en Santa Cruz a las 18h. \n\n\n\nSesión titulada “¿Huevo o gallina?”
URL:https://lauraescuela.com/agenda/publico-familiar-on-santa-cruz/
END:VEVENT
END:VCALENDAR