BEGIN:VCALENDAR
VERSION:2.0
PRODID:-//Laura Escuela - ECPv5.3.0//NONSGML v1.0//EN
CALSCALE:GREGORIAN
METHOD:PUBLISH
X-WR-CALNAME:Laura Escuela
X-ORIGINAL-URL:https://lauraescuela.com
X-WR-CALDESC:Eventos para Laura Escuela
BEGIN:VTIMEZONE
TZID:UTC
BEGIN:STANDARD
TZOFFSETFROM:+0000
TZOFFSETTO:+0000
TZNAME:UTC
DTSTART:20190101T000000
END:STANDARD
END:VTIMEZONE
BEGIN:VEVENT
DTSTART;TZID=UTC:20191012T053000
DTEND;TZID=UTC:20191012T060000
DTSTAMP:20260421T130902
CREATED:20190923T173237Z
LAST-MODIFIED:20190923T173319Z
UID:2746-1570858200-1570860000@lauraescuela.com
SUMMARY:Sesión de cuentos público familiar en Santiago de Chile
DESCRIPTION:Biblioteca Popular Pedro Mariqueo de la población La Victoria
URL:https://lauraescuela.com/agenda/sesion-de-cuentos-en-santiago-de-chile/
END:VEVENT
END:VCALENDAR