BEGIN:VCALENDAR
VERSION:2.0
PRODID:-//Laura Escuela - ECPv5.3.0//NONSGML v1.0//EN
CALSCALE:GREGORIAN
METHOD:PUBLISH
X-WR-CALNAME:Laura Escuela
X-ORIGINAL-URL:https://lauraescuela.com
X-WR-CALDESC:Eventos para Laura Escuela
BEGIN:VTIMEZONE
TZID:UTC
BEGIN:STANDARD
TZOFFSETFROM:+0000
TZOFFSETTO:+0000
TZNAME:UTC
DTSTART:20230101T000000
END:STANDARD
END:VTIMEZONE
BEGIN:VEVENT
DTSTART;TZID=UTC:20231215T080000
DTEND;TZID=UTC:20231215T100000
DTSTAMP:20260421T084243
CREATED:20231130T140048Z
LAST-MODIFIED:20231130T140050Z
UID:5362-1702627200-1702634400@lauraescuela.com
SUMMARY:SESIÓN ESCOLAR. Cuentos en inglés en CEIP Santa María de Siena
DESCRIPTION:Aforo completo. Sesión cerrada para público escolar de Educación Infantil.
URL:https://lauraescuela.com/agenda/sesion-escolar-cuentos-en-ingles-en-ceip-santa-maria-de-siena/
END:VEVENT
END:VCALENDAR