BEGIN:VCALENDAR
VERSION:2.0
PRODID:-//Laura Escuela - ECPv5.3.0//NONSGML v1.0//EN
CALSCALE:GREGORIAN
METHOD:PUBLISH
X-WR-CALNAME:Laura Escuela
X-ORIGINAL-URL:https://lauraescuela.com
X-WR-CALDESC:Eventos para Laura Escuela
BEGIN:VTIMEZONE
TZID:UTC
BEGIN:STANDARD
TZOFFSETFROM:+0000
TZOFFSETTO:+0000
TZNAME:UTC
DTSTART:20200101T000000
END:STANDARD
END:VTIMEZONE
BEGIN:VEVENT
DTSTART;TZID=UTC:20200312T080000
DTEND;TZID=UTC:20200312T170000
DTSTAMP:20260419T194850
CREATED:20200302T123056Z
LAST-MODIFIED:20200302T123058Z
UID:3260-1584000000-1584032400@lauraescuela.com
SUMMARY:Sesión escolar
DESCRIPTION:Sesión escolar en escuela infantil La Orotava\, bebecuentos.
URL:https://lauraescuela.com/agenda/sesion-escolar/
END:VEVENT
END:VCALENDAR