BEGIN:VCALENDAR
VERSION:2.0
PRODID:-//Laura Escuela - ECPv5.3.0//NONSGML v1.0//EN
CALSCALE:GREGORIAN
METHOD:PUBLISH
X-WR-CALNAME:Laura Escuela
X-ORIGINAL-URL:https://lauraescuela.com
X-WR-CALDESC:Eventos para Laura Escuela
BEGIN:VTIMEZONE
TZID:UTC
BEGIN:STANDARD
TZOFFSETFROM:+0000
TZOFFSETTO:+0000
TZNAME:UTC
DTSTART:20200101T000000
END:STANDARD
END:VTIMEZONE
BEGIN:VEVENT
DTSTART;TZID=UTC:20200612T180000
DTEND;TZID=UTC:20200612T190000
DTSTAMP:20260419T182218
CREATED:20200530T192835Z
LAST-MODIFIED:20200530T192837Z
UID:3318-1591984800-1591988400@lauraescuela.com
SUMMARY:Sesión familiar Biblioteca Insular GC Online
DESCRIPTION:Sesión de cuentos para público familiar (mayores de 3 años) dentro del programa VIERNES EN LA BIBLIOTECA de la Biblioteca Insular de Gran Canaria.  \n\n\n\nSerá emitido en las redes (facebook y youtube) de la biblioteca. Más información pronto.
URL:https://lauraescuela.com/agenda/sesion-familiar-biblioteca-insular-gc-online/
END:VEVENT
END:VCALENDAR