BEGIN:VCALENDAR
VERSION:2.0
PRODID:-//Laura Escuela - ECPv5.3.0//NONSGML v1.0//EN
CALSCALE:GREGORIAN
METHOD:PUBLISH
X-WR-CALNAME:Laura Escuela
X-ORIGINAL-URL:https://lauraescuela.com
X-WR-CALDESC:Eventos para Laura Escuela
BEGIN:VTIMEZONE
TZID:UTC
BEGIN:STANDARD
TZOFFSETFROM:+0000
TZOFFSETTO:+0000
TZNAME:UTC
DTSTART:20200101T000000
END:STANDARD
END:VTIMEZONE
BEGIN:VEVENT
DTSTART;TZID=UTC:20201129T080000
DTEND;TZID=UTC:20201129T170000
DTSTAMP:20260420T092836
CREATED:20201102T114421Z
LAST-MODIFIED:20201102T114422Z
UID:3496-1606636800-1606669200@lauraescuela.com
SUMMARY:Sesión familiar VILAFLOR
DESCRIPTION:Más información pronto
URL:https://lauraescuela.com/agenda/sesion-familiar-vilaflor/
END:VEVENT
END:VCALENDAR