BEGIN:VCALENDAR
VERSION:2.0
PRODID:-//Laura Escuela - ECPv5.3.0//NONSGML v1.0//EN
CALSCALE:GREGORIAN
METHOD:PUBLISH
X-WR-CALNAME:Laura Escuela
X-ORIGINAL-URL:https://lauraescuela.com
X-WR-CALDESC:Eventos para Laura Escuela
BEGIN:VTIMEZONE
TZID:UTC
BEGIN:STANDARD
TZOFFSETFROM:+0000
TZOFFSETTO:+0000
TZNAME:UTC
DTSTART:20200101T000000
END:STANDARD
END:VTIMEZONE
BEGIN:VEVENT
DTSTART;TZID=UTC:20201209T170000
DTEND;TZID=UTC:20201209T180000
DTSTAMP:20260424T154552
CREATED:20201130T122633Z
LAST-MODIFIED:20201130T122634Z
UID:3569-1607533200-1607536800@lauraescuela.com
SUMMARY:Sesión Público familiar (On)
DESCRIPTION:Sesión para público familiar desde las Bibliotecas de Fuenlabrada (Sesión online) \n\n\n\nMás información\, pronto.
URL:https://lauraescuela.com/agenda/sesion-publico-familiar-on/
END:VEVENT
END:VCALENDAR