BEGIN:VCALENDAR
VERSION:2.0
PRODID:-//Laura Escuela - ECPv5.3.0//NONSGML v1.0//EN
CALSCALE:GREGORIAN
METHOD:PUBLISH
X-WR-CALNAME:Laura Escuela
X-ORIGINAL-URL:https://lauraescuela.com
X-WR-CALDESC:Eventos para Laura Escuela
BEGIN:VTIMEZONE
TZID:UTC
BEGIN:STANDARD
TZOFFSETFROM:+0000
TZOFFSETTO:+0000
TZNAME:UTC
DTSTART:20240101T000000
END:STANDARD
END:VTIMEZONE
BEGIN:VEVENT
DTSTART;TZID=UTC:20240401T160000
DTEND;TZID=UTC:20240401T180000
DTSTAMP:20260421T114436
CREATED:20240330T204141Z
LAST-MODIFIED:20240330T204143Z
UID:5414-1711987200-1711994400@lauraescuela.com
SUMMARY:Sesiones de cuentos en Tegueste
DESCRIPTION:Sesiones de cuentos en Ludoteca el Barco de Madera y Centro Infantil Besay. Actividad específica para niños y niñas de estos centros.
URL:https://lauraescuela.com/agenda/sesiones-de-cuentos-en-tegueste/
END:VEVENT
END:VCALENDAR