BEGIN:VCALENDAR
VERSION:2.0
PRODID:-//Laura Escuela - ECPv5.3.0//NONSGML v1.0//EN
CALSCALE:GREGORIAN
METHOD:PUBLISH
X-WR-CALNAME:Laura Escuela
X-ORIGINAL-URL:https://lauraescuela.com
X-WR-CALDESC:Eventos para Laura Escuela
BEGIN:VTIMEZONE
TZID:UTC
BEGIN:STANDARD
TZOFFSETFROM:+0000
TZOFFSETTO:+0000
TZNAME:UTC
DTSTART:20240101T000000
END:STANDARD
END:VTIMEZONE
BEGIN:VEVENT
DTSTART;TZID=UTC:20240426T105000
DTEND;TZID=UTC:20240426T105000
DTSTAMP:20260421T131231
CREATED:20240330T211202Z
LAST-MODIFIED:20240330T211204Z
UID:5446-1714128600-1714128600@lauraescuela.com
SUMMARY:Sesiones escolares Biblioteca de Fasnia
DESCRIPTION:Sesiones escolares para público escolar del municipio de Fasnia en la Biblioteca Pública.
URL:https://lauraescuela.com/agenda/sesiones-escolares-biblioteca-de-fasnia/
END:VEVENT
END:VCALENDAR