BEGIN:VCALENDAR
VERSION:2.0
PRODID:-//Laura Escuela - ECPv5.3.0//NONSGML v1.0//EN
CALSCALE:GREGORIAN
METHOD:PUBLISH
X-WR-CALNAME:Laura Escuela
X-ORIGINAL-URL:https://lauraescuela.com
X-WR-CALDESC:Eventos para Laura Escuela
BEGIN:VTIMEZONE
TZID:UTC
BEGIN:STANDARD
TZOFFSETFROM:+0000
TZOFFSETTO:+0000
TZNAME:UTC
DTSTART:20240101T000000
END:STANDARD
END:VTIMEZONE
BEGIN:VEVENT
DTSTART;TZID=UTC:20240429T080000
DTEND;TZID=UTC:20240429T170000
DTSTAMP:20260421T121043
CREATED:20240330T211638Z
LAST-MODIFIED:20240330T211640Z
UID:5451-1714377600-1714410000@lauraescuela.com
SUMMARY:Sesiones escolares CEIP Pérez de Valero
DESCRIPTION:
URL:https://lauraescuela.com/agenda/sesiones-escolares-ceip-perez-de-valero/
END:VEVENT
END:VCALENDAR