BEGIN:VCALENDAR
VERSION:2.0
PRODID:-//Laura Escuela - ECPv5.3.0//NONSGML v1.0//EN
CALSCALE:GREGORIAN
METHOD:PUBLISH
X-WR-CALNAME:Laura Escuela
X-ORIGINAL-URL:https://lauraescuela.com
X-WR-CALDESC:Eventos para Laura Escuela
BEGIN:VTIMEZONE
TZID:UTC
BEGIN:STANDARD
TZOFFSETFROM:+0000
TZOFFSETTO:+0000
TZNAME:UTC
DTSTART:20250101T000000
END:STANDARD
END:VTIMEZONE
BEGIN:VEVENT
DTSTART;TZID=UTC:20250423T090000
DTEND;TZID=UTC:20250423T230000
DTSTAMP:20260424T015230
CREATED:20250327T122505Z
LAST-MODIFIED:20250327T122507Z
UID:5711-1745398800-1745449200@lauraescuela.com
SUMMARY:Sesiones escolares CEIP San Matías
DESCRIPTION:
URL:https://lauraescuela.com/agenda/sesiones-escolares-ceip-san-matias/
END:VEVENT
END:VCALENDAR