BEGIN:VCALENDAR
VERSION:2.0
PRODID:-//Laura Escuela - ECPv5.3.0//NONSGML v1.0//EN
CALSCALE:GREGORIAN
METHOD:PUBLISH
X-WR-CALNAME:Laura Escuela
X-ORIGINAL-URL:https://lauraescuela.com
X-WR-CALDESC:Eventos para Laura Escuela
BEGIN:VTIMEZONE
TZID:UTC
BEGIN:STANDARD
TZOFFSETFROM:+0000
TZOFFSETTO:+0000
TZNAME:UTC
DTSTART:20190101T000000
END:STANDARD
END:VTIMEZONE
BEGIN:VEVENT
DTSTART;TZID=UTC:20191210T080000
DTEND;TZID=UTC:20191210T230000
DTSTAMP:20260421T083934
CREATED:20191127T133927Z
LAST-MODIFIED:20191127T133929Z
UID:2980-1575964800-1576018800@lauraescuela.com
SUMMARY:Sesiones escolares La Pureza
DESCRIPTION:Sesiones de cuentos en inglés STORY TIME para niños y niñas de Educación Infantil del Colegio La Pureza\, Santa Cruz de Tenerife
URL:https://lauraescuela.com/agenda/sesiones-escolares-la-pureza/
END:VEVENT
END:VCALENDAR