BEGIN:VCALENDAR
VERSION:2.0
PRODID:-//Laura Escuela - ECPv5.3.0//NONSGML v1.0//EN
CALSCALE:GREGORIAN
METHOD:PUBLISH
X-WR-CALNAME:Laura Escuela
X-ORIGINAL-URL:https://lauraescuela.com
X-WR-CALDESC:Eventos para Laura Escuela
BEGIN:VTIMEZONE
TZID:UTC
BEGIN:STANDARD
TZOFFSETFROM:+0000
TZOFFSETTO:+0000
TZNAME:UTC
DTSTART:20200101T000000
END:STANDARD
END:VTIMEZONE
BEGIN:VEVENT
DTSTART;TZID=UTC:20201221T080000
DTEND;TZID=UTC:20201221T170000
DTSTAMP:20260423T090528
CREATED:20201130T122312Z
LAST-MODIFIED:20201130T122313Z
UID:3564-1608537600-1608570000@lauraescuela.com
SUMMARY:Sesiones escolares (PIALTE)
DESCRIPTION:Visitas a diferentes colegios dentro del programa PIALTE\, Tenerife Educa\, Cabildo de Tenerife.
URL:https://lauraescuela.com/agenda/sesiones-escolares-pialte-2/
END:VEVENT
END:VCALENDAR