BEGIN:VCALENDAR
VERSION:2.0
PRODID:-//Laura Escuela - ECPv5.3.0//NONSGML v1.0//EN
CALSCALE:GREGORIAN
METHOD:PUBLISH
X-WR-CALNAME:Laura Escuela
X-ORIGINAL-URL:https://lauraescuela.com
X-WR-CALDESC:Eventos para Laura Escuela
BEGIN:VTIMEZONE
TZID:UTC
BEGIN:STANDARD
TZOFFSETFROM:+0000
TZOFFSETTO:+0000
TZNAME:UTC
DTSTART:20210101T000000
END:STANDARD
END:VTIMEZONE
BEGIN:VEVENT
DTSTART;TZID=UTC:20210430T080000
DTEND;TZID=UTC:20210430T170000
DTSTAMP:20260421T082527
CREATED:20210401T131135Z
LAST-MODIFIED:20210401T131137Z
UID:3718-1619769600-1619802000@lauraescuela.com
SUMMARY:Story Time en La Laguna
DESCRIPTION:
URL:https://lauraescuela.com/agenda/story-time-en-la-laguna/
ATTACH;FMTTYPE=image/png:https://lauraescuela.com/wp-content/uploads/2021/04/Bebecuentos-marzo-3.png
END:VEVENT
END:VCALENDAR