BEGIN:VCALENDAR
VERSION:2.0
PRODID:-//Laura Escuela - ECPv5.3.0//NONSGML v1.0//EN
CALSCALE:GREGORIAN
METHOD:PUBLISH
X-WR-CALNAME:Laura Escuela
X-ORIGINAL-URL:https://lauraescuela.com
X-WR-CALDESC:Eventos para Laura Escuela
BEGIN:VTIMEZONE
TZID:UTC
BEGIN:STANDARD
TZOFFSETFROM:+0000
TZOFFSETTO:+0000
TZNAME:UTC
DTSTART:20220101T000000
END:STANDARD
END:VTIMEZONE
BEGIN:VEVENT
DTSTART;TZID=UTC:20220610T050000
DTEND;TZID=UTC:20220610T174000
DTSTAMP:20260424T181052
CREATED:20220501T185551Z
LAST-MODIFIED:20220601T071601Z
UID:4272-1654837200-1654882800@lauraescuela.com
SUMMARY:Story Time LA LAGUNA
DESCRIPTION:Sesión en inglés STORY TIME en la Biblioteca Municipal de La Laguna
URL:https://lauraescuela.com/agenda/story-time-la-laguna-18/
ATTACH;FMTTYPE=image/png:https://lauraescuela.com/wp-content/uploads/2022/06/story-time-3.png
END:VEVENT
END:VCALENDAR