BEGIN:VCALENDAR
VERSION:2.0
PRODID:-//Laura Escuela - ECPv5.3.0//NONSGML v1.0//EN
CALSCALE:GREGORIAN
METHOD:PUBLISH
X-WR-CALNAME:Laura Escuela
X-ORIGINAL-URL:https://lauraescuela.com
X-WR-CALDESC:Eventos para Laura Escuela
BEGIN:VTIMEZONE
TZID:UTC
BEGIN:STANDARD
TZOFFSETFROM:+0000
TZOFFSETTO:+0000
TZNAME:UTC
DTSTART:20190101T000000
END:STANDARD
END:VTIMEZONE
BEGIN:VEVENT
DTSTART;TZID=UTC:20191213T050000
DTEND;TZID=UTC:20191213T190000
DTSTAMP:20260424T084211
CREATED:20191127T135714Z
LAST-MODIFIED:20191127T135725Z
UID:2987-1576213200-1576263600@lauraescuela.com
SUMMARY:Story Time La Laguna
DESCRIPTION:Sesiones de cuentos en inglés en la Biblioteca Municipal de La Laguna \n\n\n\n17h Story Time Baby (con inscripción primer lunes del mes a las 9h) \n\n\n\n18h Story Time (mayores de 36 meses sin inscripción)
URL:https://lauraescuela.com/agenda/story-time-la-laguna-2/
LOCATION:Biblioteca Municipal de La Laguna\, Calle Juan de Vera\, 9\, La Laguna\, 38201\, España
ATTACH;FMTTYPE=image/jpeg:https://lauraescuela.com/wp-content/uploads/2019/11/storytime.jpg
END:VEVENT
END:VCALENDAR