BEGIN:VCALENDAR
VERSION:2.0
PRODID:-//Laura Escuela - ECPv5.3.0//NONSGML v1.0//EN
CALSCALE:GREGORIAN
METHOD:PUBLISH
X-WR-CALNAME:Laura Escuela
X-ORIGINAL-URL:https://lauraescuela.com
X-WR-CALDESC:Eventos para Laura Escuela
BEGIN:VTIMEZONE
TZID:UTC
BEGIN:STANDARD
TZOFFSETFROM:+0000
TZOFFSETTO:+0000
TZNAME:UTC
DTSTART:20200101T000000
END:STANDARD
END:VTIMEZONE
BEGIN:VEVENT
DTSTART;TZID=UTC:20201028T080000
DTEND;TZID=UTC:20201028T170000
DTSTAMP:20260419T213734
CREATED:20201020T073715Z
LAST-MODIFIED:20201020T073716Z
UID:3459-1603872000-1603904400@lauraescuela.com
SUMMARY:Story Time (On) Biblioteca Pública del Estado
DESCRIPTION:A través de la página de Facebook de la Biblioteca Pública del Estado de SC de Tenerife
URL:https://lauraescuela.com/agenda/story-time-on-biblioteca-publica-del-estado/
ATTACH;FMTTYPE=image/png:https://lauraescuela.com/wp-content/uploads/2020/10/STORY-TIME-Cuentos-en-inglés-4.png
END:VEVENT
END:VCALENDAR