BEGIN:VCALENDAR
VERSION:2.0
PRODID:-//Laura Escuela - ECPv5.3.0//NONSGML v1.0//EN
CALSCALE:GREGORIAN
METHOD:PUBLISH
X-WR-CALNAME:Laura Escuela
X-ORIGINAL-URL:https://lauraescuela.com
X-WR-CALDESC:Eventos para Laura Escuela
BEGIN:VTIMEZONE
TZID:UTC
BEGIN:STANDARD
TZOFFSETFROM:+0000
TZOFFSETTO:+0000
TZNAME:UTC
DTSTART:20200101T000000
END:STANDARD
END:VTIMEZONE
BEGIN:VEVENT
DTSTART;TZID=UTC:20201014T180000
DTEND;TZID=UTC:20201014T190000
DTSTAMP:20260420T130537
CREATED:20200920T111435Z
LAST-MODIFIED:20200920T111436Z
UID:3410-1602698400-1602702000@lauraescuela.com
SUMMARY:Story Time (Pr) en El Fraile
DESCRIPTION:Sesión de cuentos en inglés presencial en El Fraile\, Arona.  \n\n\n\nInscripciones abiertas\, toda la información en el cartel.
URL:https://lauraescuela.com/agenda/story-time-pr-en-el-fraile/
ATTACH;FMTTYPE=image/png:https://lauraescuela.com/wp-content/uploads/2020/09/Colorido-Huellas-de-Manos-Niños-Cita-Educación-Póster-1-2.png
END:VEVENT
END:VCALENDAR